BEGIN:VCALENDAR
VERSION:2.0
PRODID:-//Student Chapter @ SJSU - ECPv6.15.20//NONSGML v1.0//EN
CALSCALE:GREGORIAN
METHOD:PUBLISH
X-ORIGINAL-URL:https://ischoolgroups.sjsu.edu/asistsc
X-WR-CALDESC:Events for Student Chapter @ SJSU
REFRESH-INTERVAL;VALUE=DURATION:PT1H
X-Robots-Tag:noindex
X-PUBLISHED-TTL:PT1H
BEGIN:VTIMEZONE
TZID:America/Los_Angeles
BEGIN:DAYLIGHT
TZOFFSETFROM:-0800
TZOFFSETTO:-0700
TZNAME:PDT
DTSTART:20190310T100000
END:DAYLIGHT
BEGIN:STANDARD
TZOFFSETFROM:-0700
TZOFFSETTO:-0800
TZNAME:PST
DTSTART:20191103T090000
END:STANDARD
BEGIN:DAYLIGHT
TZOFFSETFROM:-0800
TZOFFSETTO:-0700
TZNAME:PDT
DTSTART:20200308T100000
END:DAYLIGHT
BEGIN:STANDARD
TZOFFSETFROM:-0700
TZOFFSETTO:-0800
TZNAME:PST
DTSTART:20201101T090000
END:STANDARD
BEGIN:DAYLIGHT
TZOFFSETFROM:-0800
TZOFFSETTO:-0700
TZNAME:PDT
DTSTART:20210314T100000
END:DAYLIGHT
BEGIN:STANDARD
TZOFFSETFROM:-0700
TZOFFSETTO:-0800
TZNAME:PST
DTSTART:20211107T090000
END:STANDARD
END:VTIMEZONE
BEGIN:VEVENT
DTSTART;TZID=America/Los_Angeles:20201021T180000
DTEND;TZID=America/Los_Angeles:20201021T200000
DTSTAMP:20260421T072222
CREATED:20201014T172358Z
LAST-MODIFIED:20201014T172358Z
UID:4615-1603303200-1603310400@ischoolgroups.sjsu.edu
SUMMARY:Movie Night with ASIS&T
DESCRIPTION:The ASIS&T Student Chapter invites you to a fun\, relaxing movie night — get a chance to become more familiar with the SJSU ASIS&T chapter in a chill setting over Zoom. \nWe will stream part of the movie Ex Libris\, learn about a great streaming resource\, and enjoy some downtime chatting with one another. \nWhen: Wednesday\, October 21\, 2020 @ 6:00 p.m. – 8:00 p.m. (Pacific Time \nRegister in advance here:\nhttps://sjsu.zoom.us/meeting/register/tJUrduirpjojHdINYa102hihHTpnZh660FWW
URL:https://ischoolgroups.sjsu.edu/asistsc/event/movie-night-with-asist/
LOCATION:Registration Link
CATEGORIES:ASIS&T National Events,Events,Student Chapter Events
END:VEVENT
END:VCALENDAR