BEGIN:VCALENDAR
VERSION:2.0
PRODID:-//Student Chapter @ SJSU - ECPv6.15.20//NONSGML v1.0//EN
CALSCALE:GREGORIAN
METHOD:PUBLISH
X-ORIGINAL-URL:http://ischoolgroups.sjsu.edu/asistsc
X-WR-CALDESC:Events for Student Chapter @ SJSU
REFRESH-INTERVAL;VALUE=DURATION:PT1H
X-Robots-Tag:noindex
X-PUBLISHED-TTL:PT1H
BEGIN:VTIMEZONE
TZID:America/Los_Angeles
BEGIN:DAYLIGHT
TZOFFSETFROM:-0800
TZOFFSETTO:-0700
TZNAME:PDT
DTSTART:20190310T100000
END:DAYLIGHT
BEGIN:STANDARD
TZOFFSETFROM:-0700
TZOFFSETTO:-0800
TZNAME:PST
DTSTART:20191103T090000
END:STANDARD
BEGIN:DAYLIGHT
TZOFFSETFROM:-0800
TZOFFSETTO:-0700
TZNAME:PDT
DTSTART:20200308T100000
END:DAYLIGHT
BEGIN:STANDARD
TZOFFSETFROM:-0700
TZOFFSETTO:-0800
TZNAME:PST
DTSTART:20201101T090000
END:STANDARD
BEGIN:DAYLIGHT
TZOFFSETFROM:-0800
TZOFFSETTO:-0700
TZNAME:PDT
DTSTART:20210314T100000
END:DAYLIGHT
BEGIN:STANDARD
TZOFFSETFROM:-0700
TZOFFSETTO:-0800
TZNAME:PST
DTSTART:20211107T090000
END:STANDARD
END:VTIMEZONE
BEGIN:VEVENT
DTSTART;TZID=America/Los_Angeles:20200212T180000
DTEND;TZID=America/Los_Angeles:20200212T190000
DTSTAMP:20260423T101744
CREATED:20191211T053051Z
LAST-MODIFIED:20200210T015454Z
UID:4349-1581530400-1581534000@ischoolgroups.sjsu.edu
SUMMARY:The Magic of Change Management: Integrating Humans\, Processes\, and Technology
DESCRIPTION:The Human Side of DAM Four-Part Webinar Series | Part Two\nFeedback loops and constant communication are core to onboarding technology successfully. As the media supply chain shifts and impacts your enterprise operations\, you need perspective from sponsors\, stakeholders\, internal and external customers\, vendors\, and partners. Gain a true understanding of how they work\, how that aligns with business processes and deliverables\, and what technologies are in use today (that work or don’t work and why). Learn how to identify the intersection of humans\, processes and technology in its current state and develop a future state vision that works. \nSpeakers\nJill Talvensaari\nCEO\, Co-Active Coach\, Ajillity \nJill Talvensaari is a senior marketing leader\, executive coach\, non-profit board member\, and digital experience industry expert and speaker. \n  \n  \nRobin Parisse\nMedia Therapist/Professional Services \nRobin is a marketing expert and media therapist who helps senior Fortune 500 leaders simplify complex technology and processes for continuous growth and success. \n  \n  \nKathleen Cameron\nDigital Asset Manager\, Global Marketing Ops at Google \nKathleen Cameron is a knowledge manager with an emphasis on digital asset lifecycle management. \n  \n  \n  \nRegister here for this Zoom webinar: https://forms.gle/PsWoaxy5vQkUxFoH7
URL:http://ischoolgroups.sjsu.edu/asistsc/event/the-magic-of-change-management-integrating-humans-processes-and-technology/
LOCATION:Registration Link
CATEGORIES:Events,Student Chapter Events
END:VEVENT
END:VCALENDAR