BEGIN:VCALENDAR
VERSION:2.0
PRODID:-//Student Chapter @ SJSU - ECPv6.15.20//NONSGML v1.0//EN
CALSCALE:GREGORIAN
METHOD:PUBLISH
X-ORIGINAL-URL:http://ischoolgroups.sjsu.edu/asistsc
X-WR-CALDESC:Events for Student Chapter @ SJSU
REFRESH-INTERVAL;VALUE=DURATION:PT1H
X-Robots-Tag:noindex
X-PUBLISHED-TTL:PT1H
BEGIN:VTIMEZONE
TZID:America/Los_Angeles
BEGIN:DAYLIGHT
TZOFFSETFROM:-0800
TZOFFSETTO:-0700
TZNAME:PDT
DTSTART:20190310T100000
END:DAYLIGHT
BEGIN:STANDARD
TZOFFSETFROM:-0700
TZOFFSETTO:-0800
TZNAME:PST
DTSTART:20191103T090000
END:STANDARD
BEGIN:DAYLIGHT
TZOFFSETFROM:-0800
TZOFFSETTO:-0700
TZNAME:PDT
DTSTART:20200308T100000
END:DAYLIGHT
BEGIN:STANDARD
TZOFFSETFROM:-0700
TZOFFSETTO:-0800
TZNAME:PST
DTSTART:20201101T090000
END:STANDARD
BEGIN:DAYLIGHT
TZOFFSETFROM:-0800
TZOFFSETTO:-0700
TZNAME:PDT
DTSTART:20210314T100000
END:DAYLIGHT
BEGIN:STANDARD
TZOFFSETFROM:-0700
TZOFFSETTO:-0800
TZNAME:PST
DTSTART:20211107T090000
END:STANDARD
END:VTIMEZONE
BEGIN:VEVENT
DTSTART;TZID=America/Los_Angeles:20200415T180000
DTEND;TZID=America/Los_Angeles:20200415T190000
DTSTAMP:20260423T054944
CREATED:20191211T055333Z
LAST-MODIFIED:20200402T040819Z
UID:4354-1586973600-1586977200@ischoolgroups.sjsu.edu
SUMMARY:Reinventing DAM with Emerging Tech: AI/ML\, Blockchain\, 3D\, IoT\, and 5G
DESCRIPTION:The Human Side of DAM Four-Part Webinar Series | Part Three\nLet’s explore the impact of emerging technologies on the content supply chain which is constantly being reimagined to increase ROI. In this session\, we will explore how DAM solutions have adopted features and functionality of AI/ML\, blockchain\, 3D\, IoT and 5G. Look at the impact and value of these emerging technologies to DAM users. Gain a solid understanding of what each of these technologies offers and how it impacts the future of DAM. \nSpeakers\nJill Talvensaari\nCEO\, Co-Active Coach\, Ajillity \nJill Talvensaari is a senior marketing leader\, executive coach\, non-profit board member\, and digital experience industry expert and speaker. \n  \n  \nRobin Parisse\nMedia Therapist/Professional Services \nRobin is a marketing expert and media therapist who helps senior Fortune 500 leaders simplify complex technology and processes for continuous growth and success. \n  \n  \nKathleen Cameron\nDigital Asset Manager\, Global Marketing Ops at Google \nKathleen Cameron is a knowledge manager with an emphasis on digital asset lifecycle management. \n  \n  \n  \nIf you are interested in participating in this webinar\, please register through this link: https://forms.gle/Th1RuJdgsghReYbe7
URL:http://ischoolgroups.sjsu.edu/asistsc/event/reinventing-dam-with-emerging-tech-ai-ml-blockchain-3d-iot-and-5g/
LOCATION:Registration Link
CATEGORIES:Events,Student Chapter Events
END:VEVENT
END:VCALENDAR